BEGIN:VCALENDAR
VERSION:2.0
PRODID:-//ChamberMaster//Event Calendar 2.0//EN
METHOD:PUBLISH
X-PUBLISHED-TTL:P3D
REFRESH-INTERVAL:P3D
CALSCALE:GREGORIAN
BEGIN:VEVENT
DTSTART:20180314T120000Z
DTEND:20180314T133000Z
X-MICROSOFT-CDO-ALLDAYEVENT:FALSE
SUMMARY:Whitmore Ace Breakfast Bash
DESCRIPTION:Did you know that Whitmore Ace offers businesses special deals and has a business specialist on staff?  Join Whitmore Ace Hardware to meet and learn from Business Specialist Peggy Sumowski & Valspar Paint Expert Steve Aicher. Giveaways & refreshments!
X-ALT-DESC;FMTTYPE=text/html:Did you know that Whitmore&nbsp\;Ace offers businesses special deals and has a business specialist on staff?&nbsp\; Join Whitmore Ace Hardware to meet and learn from Business Specialist Peggy Sumowski &amp\; Valspar Paint Expert Steve Aicher. Giveaways &amp\; refreshments!
LOCATION:361 S. Locust St. Manteno
UID:e.2824.84
SEQUENCE:3
DTSTAMP:20260420T075744Z
URL:http://mantenochamber.chambermaster.com/events/details/whitmore-ace-breakfast-bash-84
END:VEVENT

END:VCALENDAR
